BEGIN:VCALENDAR
VERSION:2.0
PRODID:icalendar-ruby
CALSCALE:GREGORIAN
METHOD:PUBLISH
BEGIN:VEVENT
DTSTAMP:20260420T031701Z
UID:81-294398@newhope915.com
DTSTART:20260421T180000Z
DTEND:20260421T193000Z
CLASS:PUBLIC
CREATED:20260419T075222
DESCRIPTION:dutch treat fellowship opportunity\, just show up for a meal an
 d conversation
LAST-MODIFIED:20260419T075222
LOCATION:La Madeleine
SUMMARY:Get together lunch 
URL;VALUE=URI:https://www.newhope915.com/events/get-together-lunch--81/2026
 -04-21
ATTACH;FILENAME=chips-salsa.jpg;FMTTYPE=image/jpeg:https://dq5pwpg1q8ru0.cl
 oudfront.net/2026/04/19/13/52/22/b6a15d3a-b7e4-4a8d-a775-223e4460e3df/chip
 s-salsa.jpg
END:VEVENT
END:VCALENDAR
